BEGIN:VCALENDAR
VERSION:2.0
PRODID:icalendar-ruby
CALSCALE:GREGORIAN
METHOD:PUBLISH
BEGIN:VEVENT
DTSTAMP:20260422T013410Z
UID:61-1768906@victorychino.com
DTSTART:20260924T013000Z
DTEND:20260924T023000Z
CLASS:PUBLIC
CREATED:20260421T171003
DESCRIPTION:Bible study for the adults and children\, our youth group also 
 meets during this time. 
LAST-MODIFIED:20260421T171003
LOCATION:Victory Baptist Church
SUMMARY:Church Bible Study 
URL;VALUE=URI:https://www.victorychino.com/events/church-bible-study/2026-0
 9-23
ATTACH;FILENAME=the-twelve-Wednesdsay-pic.png;FMTTYPE=image/png:https://dq5
 pwpg1q8ru0.cloudfront.net/2025/10/12/21/28/01/7698253d-05c2-447c-92db-5569
 8a8fb6c0/the-twelve-Wednesdsay-pic.png
END:VEVENT
END:VCALENDAR
